{"text_format":"1","workbook":"xlsx","n_sheets":2,"sheets":["参加申込書","CSV用"],"not_rendered":{"charts":0,"images":0,"macros":0,"external_links":0,"defined_names":2,"comments":0,"pivot_tables":0},"unopened":[],"bounds":{"document_bytes":16777216,"sheet_cells":100000,"rows_first":2000,"rows_last":500,"rows_between":2000,"halvings":0,"cell_chars":16384,"cell_head_chars":4096},"cells_cut":0,"cells_raw":0,"read":"whole","date_system":"1900"}

{"sheet":"参加申込書","index":0,"n_rows":50,"n_cols":94,"rows_kept":50,"cut":false,"hidden":false,"merged":[[21,73,21,84],[21,85,21,98],[19,4,19,11],[19,12,19,23],[19,24,19,36],[19,37,19,56],[18,73,18,84],[18,85,18,98],[19,57,19,72],[19,73,19,84],[19,85,19,98],[18,4,18,11],[20,12,20,23],[20,24,20,36],[20,37,20,56],[20,57,20,72],[20,73,20,84],[18,12,18,23],[18,24,18,36],[18,37,18,56],[18,57,18,72],[23,37,23,56],[23,57,23,72],[23,73,23,84],[14,63,15,67],[14,42,15,47],[14,68,15,98],[22,85,22,98],[23,85,23,98],[22,4,22,11],[22,12,22,23],[22,24,22,36],[22,37,22,56],[22,57,22,72],[22,73,22,84],[23,4,23,11],[23,12,23,23],[23,24,23,36],[20,85,20,98],[21,4,21,11],[21,12,21,23],[21,24,21,36],[21,37,21,56],[21,57,21,72],[20,4,20,11],[24,85,24,98],[25,4,25,11],[25,12,25,23],[25,24,25,36],[25,37,25,56],[25,57,25,72],[25,73,25,84],[25,85,25,98],[24,4,24,11],[24,12,24,23],[24,24,24,36],[24,37,24,56],[24,57,24,72],[24,73,24,84],[26,12,26,23],[26,24,26,36],[26,37,26,56],[26,57,26,72],[26,73,26,84],[27,4,27,11],[27,12,27,23],[27,24,27,36],[26,85,26,98],[0,1,0,101],[7,84,7,92],[7,81,7,83],[7,94,7,98],[8,1,8,9],[8,36,8,41],[8,42,8,57],[8,58,9,62],[8,10,8,35],[1,90,1,100],[3,78,3,101],[5,83,5,101],[4,76,4,101],[2,83,2,101],[31,4,31,11],[14,10,15,14],[8,63,8,64],[8,65,8,92],[9,1,9,9],[9,36,9,41],[9,42,9,57],[9,63,9,92],[9,10,9,35],[29,4,29,11],[29,12,29,23],[29,24,29,36],[29,37,29,56],[29,57,29,72],[29,73,29,84],[27,37,27,56],[27,57,27,72],[27,73,27,84],[28,4,28,11],[28,12,28,23],[28,24,28,36],[28,37,28,56],[28,57,28,72],[28,73,28,84],[30,4,30,11],[30,12,30,23],[30,24,30,36],[30,37,30,56],[30,57,30,72],[30,73,30,84],[10,63,11,67],[10,93,11,98],[12,10,13,14],[12,42,13,47],[12,48,13,51],[10,52,11,62],[12,52,13,62],[12,93,13,98],[12,63,13,67],[10,1,15,9],[10,10,11,14],[10,42,11,47],[10,48,11,51],[16,1,16,9],[10,15,11,41],[12,15,13,41],[27,85,27,98],[26,4,26,11],[31,12,31,23],[34,73,34,84],[34,85,34,98],[33,4,33,11],[33,12,33,23],[33,24,33,36],[33,37,33,56],[33,57,33,72],[32,4,32,11],[32,12,32,23],[32,24,32,36],[32,37,32,56],[32,57,32,72],[32,73,32,84],[31,24,31,36],[31,37,31,56],[31,57,31,72],[31,73,31,84],[34,4,34,11],[34,12,34,23],[34,24,34,36],[34,37,34,56],[34,57,34,72],[31,85,31,98],[35,85,35,98],[33,73,33,84],[35,24,35,36],[35,37,35,56],[35,57,35,72],[35,73,35,84],[33,85,33,98],[35,4,35,11],[35,12,35,23],[36,4,36,11],[36,12,36,23],[36,24,36,36],[36,37,36,56],[36,57,36,72],[36,73,36,84],[38,4,38,11],[38,12,38,23],[38,24,38,36],[38,37,38,56],[38,57,38,72],[39,85,39,98],[37,73,37,84],[39,24,39,36],[39,37,39,56],[39,57,39,72],[39,73,39,84],[37,85,37,98],[39,4,39,11],[39,12,39,23],[38,73,38,84],[38,85,38,98],[37,4,37,11],[37,12,37,23],[37,24,37,36],[37,37,37,56],[37,57,37,72],[40,4,40,11],[40,12,40,23],[40,24,40,36],[40,37,40,56],[40,57,40,72],[40,73,40,84],[42,4,42,11],[42,12,42,23],[42,24,42,36],[42,37,42,56],[42,57,42,72],[47,85,47,98],[48,85,48,98],[45,85,45,98],[49,4,49,11],[49,12,49,23],[49,24,49,36],[49,37,49,56],[49,57,49,72],[47,73,47,84],[48,4,48,11],[48,12,48,23],[48,24,48,36],[48,37,48,56],[48,57,48,72],[48,73,48,84],[46,24,46,36],[46,37,46,56],[46,57,46,72],[45,4,45,11],[45,12,45,23],[45,24,45,36],[45,37,45,56],[45,57,45,72],[45,73,45,84],[16,24,16,46],[30,85,30,98],[46,73,46,84],[46,4,46,11],[46,12,46,23],[7,74,7,76],[16,15,16,23],[44,37,44,56],[43,4,43,11],[43,12,43,23],[44,4,44,11],[43,85,43,98],[43,24,43,36],[43,37,43,56],[43,57,43,72],[43,73,43,84],[44,57,44,72],[42,73,42,84],[42,85,42,98],[41,4,41,11],[41,12,41,23],[41,24,41,36],[41,37,41,56],[41,57,41,72],[28,85,28,98],[29,85,29,98],[16,52,17,98],[47,4,47,11],[47,12,47,23],[49,85,49,98],[14,48,15,62],[14,15,15,41],[10,68,11,92],[12,68,13,92],[49,73,49,84],[44,85,44,98],[44,12,44,23],[44,24,44,36],[47,24,47,36],[47,37,47,56],[47,57,47,72],[46,85,46,98],[44,73,44,84],[41,73,41,84],[41,85,41,98],[40,85,40,98],[36,85,36,98],[32,85,32,98]]}
[null,"ＥＭＡ講座団体申込書"]
[null,null,null,null,null,null,null,null,null,null,null,null,null,null,null,null,null,null,null,null,null,null,null,null,null,null,null,null,null,null,null,null,null,null,null,null,null,null,null,null,null,null,null,null,null,null,null,null,null,null,null,null,null,null,null,null,null,null,null,null,null,null,null,null,null,null,null,null,null,null,null,null,null,null,null,null,null,null,null,null,null,null,null,null,null,null,null,null,null,null,"（2023.5改訂）"]
[null,null,null,null,null,null,null,null,null,null,null,null,null,null,null,null,null,null,null,null,null,null,null,null,null,null,null,null,null,null,null,null,null,null,null,null,null,null,null,null,null,null,null,null,null,null,null,null,null,null,null,null,null,null,null,null,null,null,null,null,null,null,null,null,null,null,null,null,null,null,null,null,null,null,null,null,null,null,null,null,null,null,null,"「個人情報取り扱いについて」の事項に同意して申込みます。"]
[null,null,null,null,null,null,null,null,null,null,null,null,null,null,null,null,null,null,null,null,null,null,null,null,null,null,null,null,null,null,null,null,null,null,null,null,null,null,null,null,null,null,null,null,null,null,null,null,null,null,null,null,null,null,null,null,null,null,null,null,null,null,null,null,null,null,null,null,null,null,null,null,null,null,null,null,null,null,"(個人情報保護方針：https://panasonic.co.jp/ew/pewbct/privacy/）"]
[null,null,null,null,null,null,null,null,null,null,null,null,null,null,null,null,null,null,null,null,null,null,null,null,null,null,null,null,null,null,null,null,null,null,null,null,null,null,null,null,null,null,null,null,null,null,null,null,null,null,null,null,null,null,null,null,null,null,null,null,null,null,null,null,null,null,null,null,null,null,null,null,null,null,null,null,"※いただきました個人情報は当社の研修関連業務のみに使用させていただきます。"]
[null,null,null,null,"研修総合受付窓口宛",null,null,null,null,null,null,null,null,null,null,null,null,null,null,null,null,null,null,null,null,null,null,null,null,null,null,null,null,null,null,null,null,null,null,null,null,null,null,null,null,null,null,null,null,null,null,null,null,null,null,null,null,null,null,null,null,null,null,null,null,null,null,null,null,null,null,null,null,null,null,null,null,null,null,null,null,null,null,"送信先： ema@gg.jp.panasonic.com"]
[]
[null,null,null,null,null,null,null,null,null,null,null,null,null,null,null,null,null,null,null,null,null,null,null,null,null,null,null,null,null,null,null,null,null,null,null,null,null,null,null,null,null,null,null,null,null,null,null,null,null,null,null,null,null,null,null,null,null,null,null,null,null,null,null,null,null,null,null,null,null,null,null,null,null,null,"申込日：",null,null,null,null,null,null,null,null,null,"Ｎo．"]
[null,"フリガナ",null,null,null,null,null,null,null,null,null,null,null,null,null,null,null,null,null,null,null,null,null,null,null,null,null,null,null,null,null,null,null,null,null,null,"フリガナ",null,null,null,null,null,null,null,null,null,null,null,null,null,null,null,null,null,null,null,null,null,"会社住所",null,null,null,null,"〒"]
[null,"会　社　名",null,null,null,null,null,null,null,null,null,null,null,null,null,null,null,null,null,null,null,null,null,null,null,null,null,null,null,null,null,null,null,null,null,null,"部署名"]
[null,"研修担当者様\n・\n研修責任者様",null,null,null,null,null,null,null,null,"フリガナ",null,null,null,null,null,null,null,null,null,null,null,null,null,null,null,null,null,null,null,null,null,null,null,null,null,null,null,null,null,null,null,"役　　職",null,null,null,null,null,"電話(直通)",null,null,null,null,null,null,null,null,null,null,null,null,null,null,"フリガナ",null,null,null,null,null,null,null,null,null,null,null,null,null,null,null,null,null,null,null,null,null,null,null,null,null,null,null,null,null,"役　　職"]
[]
[null,null,null,null,null,null,null,null,null,null,"担当者様",null,null,null,null,null,null,null,null,null,null,null,null,null,null,null,null,null,null,null,null,null,null,null,null,null,null,null,null,null,null,null,null,null,null,null,null,null,"内　　線",null,null,null,null,null,null,null,null,null,null,null,null,null,null,"責任者様"]
[]
[null,null,null,null,null,null,null,null,null,null,"Ｅﾒｰﾙ",null,null,null,null,null,null,null,null,null,null,null,null,null,null,null,null,null,null,null,null,null,null,null,null,null,null,null,null,null,null,null,"Ｆ　Ａ　Ｘ",null,null,null,null,null,null,null,null,null,null,null,null,null,null,null,null,null,null,null,null,"Ｅメール"]
[]
[null,null,null,null,null,null,null,null,null,null,null,null,null,null,null,"お申込みのきっかけ",null,null,null,null,null,null,null,null,null,null,null,null,null,null,null,null,null,null,null,null,null,null,null,null,null,null,null,null,null,null,null,null,null,null,null,null,"※テキストにつきましては申込代表者様宛にお送り致します。\n　　個別での送付をご希望の場合は、備考欄に郵便番号と住所を入力くださいますようお願いいたします。\n※合格者通知メールは受講者本人にお送りしますので、お持ちの場合は必ず受講者本人のアドレスをご記入ください。　　　　　　　　　"]
[]
[null,"Ｎｏ.",null,null,"部署・役職",null,null,null,null,null,null,null,"受講者名",null,null,null,null,null,null,null,null,null,null,null,"フリガナ",null,null,null,null,null,null,null,null,null,null,null,null,"E-MAIL※",null,null,null,null,null,null,null,null,null,null,null,null,null,null,null,null,null,null,null,"連絡先\n（TEL）",null,null,null,null,null,null,null,null,null,null,null,null,null,null,null,"携帯電話",null,null,null,null,null,null,null,null,null,null,null,"備考"]
[null,"記入例","会場","開催日","営業部　部長",null,null,null,null,null,null,null,"創研　太郎",null,null,null,null,null,null,null,null,null,null,null,"ソウケン　タロウ",null,null,null,null,null,null,null,null,null,null,null,null,"souken.taro@jp,・・・・・・",null,null,null,null,null,null,null,null,null,null,null,null,null,null,null,null,null,null,null,"000-000-0000",null,null,null,null,null,null,null,null,null,null,null,null,null,null,null,"000-0000-0000"]
[null,1]
[null,2]
[null,3]
[null,4]
[null,5]
[null,6]
[null,7]
[null,8]
[null,9]
[null,10]
[null,11]
[null,12]
[null,13]
[null,14]
[null,15]
[null,16]
[null,17]
[null,18]
[null,19]
[null,20]
[null,21]
[null,22]
[null,23]
[null,24]
[null,25]
[null,26]
[null,27]
[null,28]
[null,29]
[null,30]

{"sheet":"CSV用","index":1,"n_rows":30,"n_cols":19,"rows_kept":30,"cut":false,"hidden":true,"merged":[]}
["日本ＰＶプランナー協会主催「エネルギーマネジメントアドバイザー資格認定講座」",{"$f":"参加申込書!D21","v":0},"30,250円 （銀行振込",{"$f":"参加申込書!M21","v":0},{"$f":"参加申込書!Y21","v":0},null,{"$f":"参加申込書!K$10","v":0},{"$f":"参加申込書!K$9","v":0},{"$f":"参加申込書!E21","v":0},null,{"$f":"参加申込書!AL21","v":0},"会社宛",{"$f":"参加申込書!BN$9","v":0},{"$f":"参加申込書!BL$10","v":0},{"$f":"参加申込書!BF21","v":0},{"$f":"参加申込書!AW$15","v":0},{"$f":"参加申込書!BV21","v":0},{"$f":"参加申込書!Y$17","v":0},{"$f":"参加申込書!P$13","v":0}]
["日本ＰＶプランナー協会主催「エネルギーマネジメントアドバイザー資格認定講座」",{"$f":"参加申込書!D22","v":0},"30,250円 （銀行振込",{"$f":"参加申込書!M22","v":0},{"$f":"参加申込書!Y22","v":0},null,{"$f":"参加申込書!K$10","v":0},{"$f":"参加申込書!K$9","v":0},{"$f":"参加申込書!E22","v":0},null,{"$f":"参加申込書!AL22","v":0},"会社宛",{"$f":"参加申込書!BN$9","v":0},{"$f":"参加申込書!BL$10","v":0},{"$f":"参加申込書!BF22","v":0},{"$f":"参加申込書!AW$15","v":0},{"$f":"参加申込書!BV22","v":0},{"$f":"参加申込書!Y$17","v":0},{"$f":"参加申込書!P$13","v":0}]
["日本ＰＶプランナー協会主催「エネルギーマネジメントアドバイザー資格認定講座」",{"$f":"参加申込書!D23","v":0},"30,250円 （銀行振込",{"$f":"参加申込書!M23","v":0},{"$f":"参加申込書!Y23","v":0},null,{"$f":"参加申込書!K$10","v":0},{"$f":"参加申込書!K$9","v":0},{"$f":"参加申込書!E23","v":0},null,{"$f":"参加申込書!AL23","v":0},"会社宛",{"$f":"参加申込書!BN$9","v":0},{"$f":"参加申込書!BL$10","v":0},{"$f":"参加申込書!BF23","v":0},{"$f":"参加申込書!AW$15","v":0},{"$f":"参加申込書!BV23","v":0},{"$f":"参加申込書!Y$17","v":0},{"$f":"参加申込書!P$13","v":0}]
["日本ＰＶプランナー協会主催「エネルギーマネジメントアドバイザー資格認定講座」",{"$f":"参加申込書!D24","v":0},"30,250円 （銀行振込",{"$f":"参加申込書!M24","v":0},{"$f":"参加申込書!Y24","v":0},null,{"$f":"参加申込書!K$10","v":0},{"$f":"参加申込書!K$9","v":0},{"$f":"参加申込書!E24","v":0},null,{"$f":"参加申込書!AL24","v":0},"会社宛",{"$f":"参加申込書!BN$9","v":0},{"$f":"参加申込書!BL$10","v":0},{"$f":"参加申込書!BF24","v":0},{"$f":"参加申込書!AW$15","v":0},{"$f":"参加申込書!BV24","v":0},{"$f":"参加申込書!Y$17","v":0},{"$f":"参加申込書!P$13","v":0}]
["日本ＰＶプランナー協会主催「エネルギーマネジメントアドバイザー資格認定講座」",{"$f":"参加申込書!D25","v":0},"30,250円 （銀行振込",{"$f":"参加申込書!M25","v":0},{"$f":"参加申込書!Y25","v":0},null,{"$f":"参加申込書!K$10","v":0},{"$f":"参加申込書!K$9","v":0},{"$f":"参加申込書!E25","v":0},null,{"$f":"参加申込書!AL25","v":0},"会社宛",{"$f":"参加申込書!BN$9","v":0},{"$f":"参加申込書!BL$10","v":0},{"$f":"参加申込書!BF25","v":0},{"$f":"参加申込書!AW$15","v":0},{"$f":"参加申込書!BV25","v":0},{"$f":"参加申込書!Y$17","v":0},{"$f":"参加申込書!P$13","v":0}]
["日本ＰＶプランナー協会主催「エネルギーマネジメントアドバイザー資格認定講座」",{"$f":"参加申込書!D26","v":0},"30,250円 （銀行振込",{"$f":"参加申込書!M26","v":0},{"$f":"参加申込書!Y26","v":0},null,{"$f":"参加申込書!K$10","v":0},{"$f":"参加申込書!K$9","v":0},{"$f":"参加申込書!E26","v":0},null,{"$f":"参加申込書!AL26","v":0},"会社宛",{"$f":"参加申込書!BN$9","v":0},{"$f":"参加申込書!BL$10","v":0},{"$f":"参加申込書!BF26","v":0},{"$f":"参加申込書!AW$15","v":0},{"$f":"参加申込書!BV26","v":0},{"$f":"参加申込書!Y$17","v":0},{"$f":"参加申込書!P$13","v":0}]
["日本ＰＶプランナー協会主催「エネルギーマネジメントアドバイザー資格認定講座」",{"$f":"参加申込書!D27","v":0},"30,250円 （銀行振込",{"$f":"参加申込書!M27","v":0},{"$f":"参加申込書!Y27","v":0},null,{"$f":"参加申込書!K$10","v":0},{"$f":"参加申込書!K$9","v":0},{"$f":"参加申込書!E27","v":0},null,{"$f":"参加申込書!AL27","v":0},"会社宛",{"$f":"参加申込書!BN$9","v":0},{"$f":"参加申込書!BL$10","v":0},{"$f":"参加申込書!BF27","v":0},{"$f":"参加申込書!AW$15","v":0},{"$f":"参加申込書!BV27","v":0},{"$f":"参加申込書!Y$17","v":0},{"$f":"参加申込書!P$13","v":0}]
["日本ＰＶプランナー協会主催「エネルギーマネジメントアドバイザー資格認定講座」",{"$f":"参加申込書!D28","v":0},"30,250円 （銀行振込",{"$f":"参加申込書!M28","v":0},{"$f":"参加申込書!Y28","v":0},null,{"$f":"参加申込書!K$10","v":0},{"$f":"参加申込書!K$9","v":0},{"$f":"参加申込書!E28","v":0},null,{"$f":"参加申込書!AL28","v":0},"会社宛",{"$f":"参加申込書!BN$9","v":0},{"$f":"参加申込書!BL$10","v":0},{"$f":"参加申込書!BF28","v":0},{"$f":"参加申込書!AW$15","v":0},{"$f":"参加申込書!BV28","v":0},{"$f":"参加申込書!Y$17","v":0},{"$f":"参加申込書!P$13","v":0}]
["日本ＰＶプランナー協会主催「エネルギーマネジメントアドバイザー資格認定講座」",{"$f":"参加申込書!D29","v":0},"30,250円 （銀行振込",{"$f":"参加申込書!M29","v":0},{"$f":"参加申込書!Y29","v":0},null,{"$f":"参加申込書!K$10","v":0},{"$f":"参加申込書!K$9","v":0},{"$f":"参加申込書!E29","v":0},null,{"$f":"参加申込書!AL29","v":0},"会社宛",{"$f":"参加申込書!BN$9","v":0},{"$f":"参加申込書!BL$10","v":0},{"$f":"参加申込書!BF29","v":0},{"$f":"参加申込書!AW$15","v":0},{"$f":"参加申込書!BV29","v":0},{"$f":"参加申込書!Y$17","v":0},{"$f":"参加申込書!P$13","v":0}]
["日本ＰＶプランナー協会主催「エネルギーマネジメントアドバイザー資格認定講座」",{"$f":"参加申込書!D30","v":0},"30,250円 （銀行振込",{"$f":"参加申込書!M30","v":0},{"$f":"参加申込書!Y30","v":0},null,{"$f":"参加申込書!K$10","v":0},{"$f":"参加申込書!K$9","v":0},{"$f":"参加申込書!E30","v":0},null,{"$f":"参加申込書!AL30","v":0},"会社宛",{"$f":"参加申込書!BN$9","v":0},{"$f":"参加申込書!BL$10","v":0},{"$f":"参加申込書!BF30","v":0},{"$f":"参加申込書!AW$15","v":0},{"$f":"参加申込書!BV30","v":0},{"$f":"参加申込書!Y$17","v":0},{"$f":"参加申込書!P$13","v":0}]
["日本ＰＶプランナー協会主催「エネルギーマネジメントアドバイザー資格認定講座」",{"$f":"参加申込書!D31","v":0},"30,250円 （銀行振込",{"$f":"参加申込書!M31","v":0},{"$f":"参加申込書!Y31","v":0},null,{"$f":"参加申込書!K$10","v":0},{"$f":"参加申込書!K$9","v":0},{"$f":"参加申込書!E31","v":0},null,{"$f":"参加申込書!AL31","v":0},"会社宛",{"$f":"参加申込書!BN$9","v":0},{"$f":"参加申込書!BL$10","v":0},{"$f":"参加申込書!BF31","v":0},{"$f":"参加申込書!AW$15","v":0},{"$f":"参加申込書!BV31","v":0},{"$f":"参加申込書!Y$17","v":0},{"$f":"参加申込書!P$13","v":0}]
["日本ＰＶプランナー協会主催「エネルギーマネジメントアドバイザー資格認定講座」",{"$f":"参加申込書!D32","v":0},"30,250円 （銀行振込",{"$f":"参加申込書!M32","v":0},{"$f":"参加申込書!Y32","v":0},null,{"$f":"参加申込書!K$10","v":0},{"$f":"参加申込書!K$9","v":0},{"$f":"参加申込書!E32","v":0},null,{"$f":"参加申込書!AL32","v":0},"会社宛",{"$f":"参加申込書!BN$9","v":0},{"$f":"参加申込書!BL$10","v":0},{"$f":"参加申込書!BF32","v":0},{"$f":"参加申込書!AW$15","v":0},{"$f":"参加申込書!BV32","v":0},{"$f":"参加申込書!Y$17","v":0},{"$f":"参加申込書!P$13","v":0}]
["日本ＰＶプランナー協会主催「エネルギーマネジメントアドバイザー資格認定講座」",{"$f":"参加申込書!D33","v":0},"30,250円 （銀行振込",{"$f":"参加申込書!M33","v":0},{"$f":"参加申込書!Y33","v":0},null,{"$f":"参加申込書!K$10","v":0},{"$f":"参加申込書!K$9","v":0},{"$f":"参加申込書!E33","v":0},null,{"$f":"参加申込書!AL33","v":0},"会社宛",{"$f":"参加申込書!BN$9","v":0},{"$f":"参加申込書!BL$10","v":0},{"$f":"参加申込書!BF33","v":0},{"$f":"参加申込書!AW$15","v":0},{"$f":"参加申込書!BV33","v":0},{"$f":"参加申込書!Y$17","v":0},{"$f":"参加申込書!P$13","v":0}]
["日本ＰＶプランナー協会主催「エネルギーマネジメントアドバイザー資格認定講座」",{"$f":"参加申込書!D34","v":0},"30,250円 （銀行振込",{"$f":"参加申込書!M34","v":0},{"$f":"参加申込書!Y34","v":0},null,{"$f":"参加申込書!K$10","v":0},{"$f":"参加申込書!K$9","v":0},{"$f":"参加申込書!E34","v":0},null,{"$f":"参加申込書!AL34","v":0},"会社宛",{"$f":"参加申込書!BN$9","v":0},{"$f":"参加申込書!BL$10","v":0},{"$f":"参加申込書!BF34","v":0},{"$f":"参加申込書!AW$15","v":0},{"$f":"参加申込書!BV34","v":0},{"$f":"参加申込書!Y$17","v":0},{"$f":"参加申込書!P$13","v":0}]
["日本ＰＶプランナー協会主催「エネルギーマネジメントアドバイザー資格認定講座」",{"$f":"参加申込書!D35","v":0},"30,250円 （銀行振込",{"$f":"参加申込書!M35","v":0},{"$f":"参加申込書!Y35","v":0},null,{"$f":"参加申込書!K$10","v":0},{"$f":"参加申込書!K$9","v":0},{"$f":"参加申込書!E35","v":0},null,{"$f":"参加申込書!AL35","v":0},"会社宛",{"$f":"参加申込書!BN$9","v":0},{"$f":"参加申込書!BL$10","v":0},{"$f":"参加申込書!BF35","v":0},{"$f":"参加申込書!AW$15","v":0},{"$f":"参加申込書!BV35","v":0},{"$f":"参加申込書!Y$17","v":0},{"$f":"参加申込書!P$13","v":0}]
["日本ＰＶプランナー協会主催「エネルギーマネジメントアドバイザー資格認定講座」",{"$f":"参加申込書!D36","v":0},"30,250円 （銀行振込",{"$f":"参加申込書!M36","v":0},{"$f":"参加申込書!Y36","v":0},null,{"$f":"参加申込書!K$10","v":0},{"$f":"参加申込書!K$9","v":0},{"$f":"参加申込書!E36","v":0},null,{"$f":"参加申込書!AL36","v":0},"会社宛",{"$f":"参加申込書!BN$9","v":0},{"$f":"参加申込書!BL$10","v":0},{"$f":"参加申込書!BF36","v":0},{"$f":"参加申込書!AW$15","v":0},{"$f":"参加申込書!BV36","v":0},{"$f":"参加申込書!Y$17","v":0},{"$f":"参加申込書!P$13","v":0}]
["日本ＰＶプランナー協会主催「エネルギーマネジメントアドバイザー資格認定講座」",{"$f":"参加申込書!D37","v":0},"30,250円 （銀行振込",{"$f":"参加申込書!M37","v":0},{"$f":"参加申込書!Y37","v":0},null,{"$f":"参加申込書!K$10","v":0},{"$f":"参加申込書!K$9","v":0},{"$f":"参加申込書!E37","v":0},null,{"$f":"参加申込書!AL37","v":0},"会社宛",{"$f":"参加申込書!BN$9","v":0},{"$f":"参加申込書!BL$10","v":0},{"$f":"参加申込書!BF37","v":0},{"$f":"参加申込書!AW$15","v":0},{"$f":"参加申込書!BV37","v":0},{"$f":"参加申込書!Y$17","v":0},{"$f":"参加申込書!P$13","v":0}]
["日本ＰＶプランナー協会主催「エネルギーマネジメントアドバイザー資格認定講座」",{"$f":"参加申込書!D38","v":0},"30,250円 （銀行振込",{"$f":"参加申込書!M38","v":0},{"$f":"参加申込書!Y38","v":0},null,{"$f":"参加申込書!K$10","v":0},{"$f":"参加申込書!K$9","v":0},{"$f":"参加申込書!E38","v":0},null,{"$f":"参加申込書!AL38","v":0},"会社宛",{"$f":"参加申込書!BN$9","v":0},{"$f":"参加申込書!BL$10","v":0},{"$f":"参加申込書!BF38","v":0},{"$f":"参加申込書!AW$15","v":0},{"$f":"参加申込書!BV38","v":0},{"$f":"参加申込書!Y$17","v":0},{"$f":"参加申込書!P$13","v":0}]
["日本ＰＶプランナー協会主催「エネルギーマネジメントアドバイザー資格認定講座」",{"$f":"参加申込書!D39","v":0},"30,250円 （銀行振込",{"$f":"参加申込書!M39","v":0},{"$f":"参加申込書!Y39","v":0},null,{"$f":"参加申込書!K$10","v":0},{"$f":"参加申込書!K$9","v":0},{"$f":"参加申込書!E39","v":0},null,{"$f":"参加申込書!AL39","v":0},"会社宛",{"$f":"参加申込書!BN$9","v":0},{"$f":"参加申込書!BL$10","v":0},{"$f":"参加申込書!BF39","v":0},{"$f":"参加申込書!AW$15","v":0},{"$f":"参加申込書!BV39","v":0},{"$f":"参加申込書!Y$17","v":0},{"$f":"参加申込書!P$13","v":0}]
["日本ＰＶプランナー協会主催「エネルギーマネジメントアドバイザー資格認定講座」",{"$f":"参加申込書!D40","v":0},"30,250円 （銀行振込",{"$f":"参加申込書!M40","v":0},{"$f":"参加申込書!Y40","v":0},null,{"$f":"参加申込書!K$10","v":0},{"$f":"参加申込書!K$9","v":0},{"$f":"参加申込書!E40","v":0},null,{"$f":"参加申込書!AL40","v":0},"会社宛",{"$f":"参加申込書!BN$9","v":0},{"$f":"参加申込書!BL$10","v":0},{"$f":"参加申込書!BF40","v":0},{"$f":"参加申込書!AW$15","v":0},{"$f":"参加申込書!BV40","v":0},{"$f":"参加申込書!Y$17","v":0},{"$f":"参加申込書!P$13","v":0}]
["日本ＰＶプランナー協会主催「エネルギーマネジメントアドバイザー資格認定講座」",{"$f":"参加申込書!D41","v":0},"30,251円 （銀行振込",{"$f":"参加申込書!M41","v":0},{"$f":"参加申込書!Y41","v":0},null,{"$f":"参加申込書!K$10","v":0},{"$f":"参加申込書!K$9","v":0},{"$f":"参加申込書!E41","v":0},null,{"$f":"参加申込書!AL41","v":0},"会社宛",{"$f":"参加申込書!BN$9","v":0},{"$f":"参加申込書!BL$10","v":0},{"$f":"参加申込書!BF41","v":0},{"$f":"参加申込書!AW$15","v":0},{"$f":"参加申込書!BV41","v":0},{"$f":"参加申込書!Y$17","v":0},{"$f":"参加申込書!P$13","v":0}]
["日本ＰＶプランナー協会主催「エネルギーマネジメントアドバイザー資格認定講座」",{"$f":"参加申込書!D42","v":0},"30,252円 （銀行振込",{"$f":"参加申込書!M42","v":0},{"$f":"参加申込書!Y42","v":0},null,{"$f":"参加申込書!K$10","v":0},{"$f":"参加申込書!K$9","v":0},{"$f":"参加申込書!E42","v":0},null,{"$f":"参加申込書!AL42","v":0},"会社宛",{"$f":"参加申込書!BN$9","v":0},{"$f":"参加申込書!BL$10","v":0},{"$f":"参加申込書!BF42","v":0},{"$f":"参加申込書!AW$15","v":0},{"$f":"参加申込書!BV42","v":0},{"$f":"参加申込書!Y$17","v":0},{"$f":"参加申込書!P$13","v":0}]
["日本ＰＶプランナー協会主催「エネルギーマネジメントアドバイザー資格認定講座」",{"$f":"参加申込書!D43","v":0},"30,253円 （銀行振込",{"$f":"参加申込書!M43","v":0},{"$f":"参加申込書!Y43","v":0},null,{"$f":"参加申込書!K$10","v":0},{"$f":"参加申込書!K$9","v":0},{"$f":"参加申込書!E43","v":0},null,{"$f":"参加申込書!AL43","v":0},"会社宛",{"$f":"参加申込書!BN$9","v":0},{"$f":"参加申込書!BL$10","v":0},{"$f":"参加申込書!BF43","v":0},{"$f":"参加申込書!AW$15","v":0},{"$f":"参加申込書!BV43","v":0},{"$f":"参加申込書!Y$17","v":0},{"$f":"参加申込書!P$13","v":0}]
["日本ＰＶプランナー協会主催「エネルギーマネジメントアドバイザー資格認定講座」",{"$f":"参加申込書!D44","v":0},"30,254円 （銀行振込",{"$f":"参加申込書!M44","v":0},{"$f":"参加申込書!Y44","v":0},null,{"$f":"参加申込書!K$10","v":0},{"$f":"参加申込書!K$9","v":0},{"$f":"参加申込書!E44","v":0},null,{"$f":"参加申込書!AL44","v":0},"会社宛",{"$f":"参加申込書!BN$9","v":0},{"$f":"参加申込書!BL$10","v":0},{"$f":"参加申込書!BF44","v":0},{"$f":"参加申込書!AW$15","v":0},{"$f":"参加申込書!BV44","v":0},{"$f":"参加申込書!Y$17","v":0},{"$f":"参加申込書!P$13","v":0}]
["日本ＰＶプランナー協会主催「エネルギーマネジメントアドバイザー資格認定講座」",{"$f":"参加申込書!D45","v":0},"30,255円 （銀行振込",{"$f":"参加申込書!M45","v":0},{"$f":"参加申込書!Y45","v":0},null,{"$f":"参加申込書!K$10","v":0},{"$f":"参加申込書!K$9","v":0},{"$f":"参加申込書!E45","v":0},null,{"$f":"参加申込書!AL45","v":0},"会社宛",{"$f":"参加申込書!BN$9","v":0},{"$f":"参加申込書!BL$10","v":0},{"$f":"参加申込書!BF45","v":0},{"$f":"参加申込書!AW$15","v":0},{"$f":"参加申込書!BV45","v":0},{"$f":"参加申込書!Y$17","v":0},{"$f":"参加申込書!P$13","v":0}]
["日本ＰＶプランナー協会主催「エネルギーマネジメントアドバイザー資格認定講座」",{"$f":"参加申込書!D46","v":0},"30,256円 （銀行振込",{"$f":"参加申込書!M46","v":0},{"$f":"参加申込書!Y46","v":0},null,{"$f":"参加申込書!K$10","v":0},{"$f":"参加申込書!K$9","v":0},{"$f":"参加申込書!E46","v":0},null,{"$f":"参加申込書!AL46","v":0},"会社宛",{"$f":"参加申込書!BN$9","v":0},{"$f":"参加申込書!BL$10","v":0},{"$f":"参加申込書!BF46","v":0},{"$f":"参加申込書!AW$15","v":0},{"$f":"参加申込書!BV46","v":0},{"$f":"参加申込書!Y$17","v":0},{"$f":"参加申込書!P$13","v":0}]
["日本ＰＶプランナー協会主催「エネルギーマネジメントアドバイザー資格認定講座」",{"$f":"参加申込書!D47","v":0},"30,257円 （銀行振込",{"$f":"参加申込書!M47","v":0},{"$f":"参加申込書!Y47","v":0},null,{"$f":"参加申込書!K$10","v":0},{"$f":"参加申込書!K$9","v":0},{"$f":"参加申込書!E47","v":0},null,{"$f":"参加申込書!AL47","v":0},"会社宛",{"$f":"参加申込書!BN$9","v":0},{"$f":"参加申込書!BL$10","v":0},{"$f":"参加申込書!BF47","v":0},{"$f":"参加申込書!AW$15","v":0},{"$f":"参加申込書!BV47","v":0},{"$f":"参加申込書!Y$17","v":0},{"$f":"参加申込書!P$13","v":0}]
["日本ＰＶプランナー協会主催「エネルギーマネジメントアドバイザー資格認定講座」",{"$f":"参加申込書!D48","v":0},"30,258円 （銀行振込",{"$f":"参加申込書!M48","v":0},{"$f":"参加申込書!Y48","v":0},null,{"$f":"参加申込書!K$10","v":0},{"$f":"参加申込書!K$9","v":0},{"$f":"参加申込書!E48","v":0},null,{"$f":"参加申込書!AL48","v":0},"会社宛",{"$f":"参加申込書!BN$9","v":0},{"$f":"参加申込書!BL$10","v":0},{"$f":"参加申込書!BF48","v":0},{"$f":"参加申込書!AW$15","v":0},{"$f":"参加申込書!BV48","v":0},{"$f":"参加申込書!Y$17","v":0},{"$f":"参加申込書!P$13","v":0}]
["日本ＰＶプランナー協会主催「エネルギーマネジメントアドバイザー資格認定講座」",{"$f":"参加申込書!D49","v":0},"30,259円 （銀行振込",{"$f":"参加申込書!M49","v":0},{"$f":"参加申込書!Y49","v":0},null,{"$f":"参加申込書!K$10","v":0},{"$f":"参加申込書!K$9","v":0},{"$f":"参加申込書!E49","v":0},null,{"$f":"参加申込書!AL49","v":0},"会社宛",{"$f":"参加申込書!BN$9","v":0},{"$f":"参加申込書!BL$10","v":0},{"$f":"参加申込書!BF49","v":0},{"$f":"参加申込書!AW$15","v":0},{"$f":"参加申込書!BV49","v":0},{"$f":"参加申込書!Y$17","v":0},{"$f":"参加申込書!P$13","v":0}]
["日本ＰＶプランナー協会主催「エネルギーマネジメントアドバイザー資格認定講座」",{"$f":"参加申込書!D50","v":0},"30,260円 （銀行振込",{"$f":"参加申込書!M50","v":0},{"$f":"参加申込書!Y50","v":0},null,{"$f":"参加申込書!K$10","v":0},{"$f":"参加申込書!K$9","v":0},{"$f":"参加申込書!E50","v":0},null,{"$f":"参加申込書!AL50","v":0},"会社宛",{"$f":"参加申込書!BN$9","v":0},{"$f":"参加申込書!BL$10","v":0},{"$f":"参加申込書!BF50","v":0},{"$f":"参加申込書!AW$15","v":0},{"$f":"参加申込書!BV50","v":0},{"$f":"参加申込書!Y$17","v":0},{"$f":"参加申込書!P$13","v":0}]